BEGIN:VCALENDAR
VERSION:2.0
PRODID:-//wp-events-plugin.com//6.5//EN
TZID:Europe/Oslo
X-WR-TIMEZONE:Europe/Oslo
BEGIN:VEVENT
UID:51-10550@oslo.swea.org
DTSTART;TZID=Europe/Oslo:20260411T124500
DTEND;TZID=Europe/Oslo:20260411T141500
DTSTAMP:20260407T071212Z
URL:https://oslo.swea.org/events/12574/
SUMMARY:SWEA Oslo badar
DESCRIPTION:FULLBOKAT\n- men hör av dig om du vill stå som reserv.\nVälk
 ommen till bastubad med dopp i Oslofjorden!\nVi ses i värmen på Heipiple
 rka på Sukkerbiten.\nPlats för 8 personer så här gäller först till k
 varn!\nTa med vatten att dricka och två handdukar. Efter bastun går de s
 om önskar vidare till Barcode Street Food.\nGå gärna med i Facebookgrup
 pen SWEA Oslo Badar!\nKostnad: 300 kr\nAnmälan: oslo.program@swea.org\n&
 nbsp\;
END:VEVENT
BEGIN:VTIMEZONE
TZID:Europe/Oslo
X-LIC-LOCATION:Europe/Oslo
BEGIN:DAYLIGHT
DTSTART:20260329T030000
TZOFFSETFROM:+0100
TZOFFSETTO:+0200
TZNAME:CEST
END:DAYLIGHT
END:VTIMEZONE
END:VCALENDAR