BEGIN:VCALENDAR
VERSION:2.0
PRODID:-//wp-events-plugin.com//6.5//EN
TZID:Europe/Oslo
X-WR-TIMEZONE:Europe/Oslo
BEGIN:VEVENT
UID:51-10552@oslo.swea.org
DTSTART;TZID=Europe/Oslo:20260420T130000
DTEND;TZID=Europe/Oslo:20260420T143000
DTSTAMP:20260328T214633Z
URL:https://oslo.swea.org/events/lunchtraff-12/
SUMMARY:Lunchträff
DESCRIPTION:Välkommen till en lunchträff  på THE KITCHEN CLUB (fd. Skø
 ien Gastrobar) – här hittar du både god mat och gott sällskap!\nSkick
 a din anmälan till oslo.program@swea.org
END:VEVENT
BEGIN:VTIMEZONE
TZID:Europe/Oslo
X-LIC-LOCATION:Europe/Oslo
BEGIN:DAYLIGHT
DTSTART:20260329T030000
TZOFFSETFROM:+0100
TZOFFSETTO:+0200
TZNAME:CEST
END:DAYLIGHT
END:VTIMEZONE
END:VCALENDAR