BEGIN:VCALENDAR
VERSION:2.0
PRODID:-//wp-events-plugin.com//6.5//EN
TZID:Europe/Oslo
X-WR-TIMEZONE:Europe/Oslo
BEGIN:VEVENT
UID:51-10710@oslo.swea.org
DTSTART;TZID=Europe/Oslo:20260520T120000
DTEND;TZID=Europe/Oslo:20260520T133000
DTSTAMP:20260421T064434Z
URL:https://oslo.swea.org/events/lunchtraff-13/
SUMMARY:Lunchträff
DESCRIPTION:Välkommen till en lunchträff på Nasjonalbiblioteket\, Kantin
 a ved Credo.\nHär hittar du både god mat och gott sällskap!\nSkicka din
  anmälan till oslo.program@swea.org\n\nMer om restaurangen Kantina ved C
 redo
END:VEVENT
BEGIN:VTIMEZONE
TZID:Europe/Oslo
X-LIC-LOCATION:Europe/Oslo
BEGIN:DAYLIGHT
DTSTART:20260329T030000
TZOFFSETFROM:+0100
TZOFFSETTO:+0200
TZNAME:CEST
END:DAYLIGHT
END:VTIMEZONE
END:VCALENDAR