BEGIN:VCALENDAR
VERSION:2.0
PRODID:-//wp-events-plugin.com//6.5//EN
TZID:Europe/Oslo
X-WR-TIMEZONE:Europe/Oslo
BEGIN:VEVENT
UID:51-10554@oslo.swea.org
DTSTART;TZID=Europe/Oslo:20260609T180000
DTEND;TZID=Europe/Oslo:20260609T203000
DTSTAMP:20260417T094905Z
URL:https://oslo.swea.org/events/professional-2/
SUMMARY:Professional - AI &amp\; Bubbel
DESCRIPTION:Välkommen till en inspirerande och bubblande kväll med SWEA O
 slo Professional!\nÄr du nyfiken på AI? Kom och ställ dina frågor till
  Ann-Sofi Often Vikström.\n\nMer information kommer i Programnytt.\n\n(Bi
 lden ovan är AI-genererad)\n\n&nbsp\;\n\n&nbsp\;\n\n&nbsp\;
ATTACH;FMTTYPE=image/jpeg:https://oslo.swea.org/wp-content/uploads/sites/5
 1/2026/03/ChatGPT-Image-AI-e1776418285162.png
END:VEVENT
BEGIN:VTIMEZONE
TZID:Europe/Oslo
X-LIC-LOCATION:Europe/Oslo
BEGIN:DAYLIGHT
DTSTART:20260329T030000
TZOFFSETFROM:+0100
TZOFFSETTO:+0200
TZNAME:CEST
END:DAYLIGHT
END:VTIMEZONE
END:VCALENDAR