BEGIN:VCALENDAR
VERSION:2.0
PRODID:-//wp-events-plugin.com//6.5//EN
TZID:Europe/Oslo
X-WR-TIMEZONE:Europe/Oslo
BEGIN:VEVENT
UID:51-10553@oslo.swea.org
DTSTART;TZID=Europe/Oslo:20260505T160000
DTEND;TZID=Europe/Oslo:20260505T190000
DTSTAMP:20260417T083918Z
URL:https://oslo.swea.org/events/professional/
SUMMARY:Professional - En karriär i två kulturer
DESCRIPTION:Hur svenska kvinnor i Norge bygger synlighet\, inflytande och h
 ållbar framgång.\nSvenska kvinnor i Norge navigerar dagligen mellan två
  arbetskulturer\, vilket skapar både möjligheter och utmaningar.\n\nKvä
 llen belyser skillnader i kommunikation\, ledarskap och beslutsfattande me
 llan Norge och Sverige.\n\nJohn Creed\, VD för Norsk-Svenska Handelskamma
 ren\, delar med sig av erfarenheter från arbetet i gränslandet mellan\nl
 änderna.\n\nDeltagarna får konkreta strategier för synlighet\, inflytan
 de och för att ta plats på ett sätt som fungerar i norska organisatione
 r. Programmet avslutas med verktyg för att stärka det personliga varumä
 rket i en norsk kontext.\n\nPlats: Biblioteket på Sommerro\n\nAnmälan ti
 ll oslo.professional@swea.org senast 29 april
END:VEVENT
BEGIN:VTIMEZONE
TZID:Europe/Oslo
X-LIC-LOCATION:Europe/Oslo
BEGIN:DAYLIGHT
DTSTART:20260329T030000
TZOFFSETFROM:+0100
TZOFFSETTO:+0200
TZNAME:CEST
END:DAYLIGHT
END:VTIMEZONE
END:VCALENDAR