BEGIN:VCALENDAR
VERSION:2.0
PRODID:-//wp-events-plugin.com//6.5//EN
TZID:Europe/Oslo
X-WR-TIMEZONE:Europe/Oslo
BEGIN:VEVENT
UID:51-9922@oslo.swea.org
DTSTART;TZID=Europe/Oslo:20260330T120000
DTEND;TZID=Europe/Oslo:20260330T140000
DTSTAMP:20260119T124148Z
URL:https://oslo.swea.org/events/simulatorgolf-varje-mandag-januari-mars-1
 1/
SUMMARY:Simulatorgolf - varje måndag januari - mars
DESCRIPTION:Simulatorgolf på Fornebu Golf – varje måndagFölj med SWEA 
 Oslo på simulatorgolf på Fornebu Golf. En trevlig och avslappnad aktivit
 et där både nybörjare och erfarna golfare är välkomna. Vi spelar\, tr
 änar och umgås i gott sällskap – oavsett väder och säsong.\nPerfekt
  för dig som vill hålla golfsvingen igång och samtidigt ha en social st
 und tillsammans.\nTid: Måndagar kl.12.00 - 14.00\nPlats: Fornebu Golf\nPr
 is: Pris för simulator delas mellan antal deltagare\nVärdinna: Anita Mat
 hissen\nAnmälan: Hör av dig till anita.mathiesen@gmail.com om du är int
 resserad av att vara med. Golfgruppen välkomnar nya deltagare inför säs
 ongen 2026.  
END:VEVENT
BEGIN:VTIMEZONE
TZID:Europe/Oslo
X-LIC-LOCATION:Europe/Oslo
BEGIN:DAYLIGHT
DTSTART:20260329T030000
TZOFFSETFROM:+0100
TZOFFSETTO:+0200
TZNAME:CEST
END:DAYLIGHT
END:VTIMEZONE
END:VCALENDAR