BEGIN:VCALENDAR
VERSION:2.0
PRODID:-//wp-events-plugin.com//6.5//EN
TZID:Europe/Oslo
X-WR-TIMEZONE:Europe/Oslo
BEGIN:VEVENT
UID:51-9904@oslo.swea.org
DTSTART;TZID=Europe/Oslo:20260618T180000
DTEND;TZID=Europe/Oslo:20260618T200000
DTSTAMP:20260328T215251Z
URL:https://oslo.swea.org/events/swea-oslo-styrelsemote-8/
SUMMARY:SWEA Oslo styrelsemöte
DESCRIPTION:Internt möte för SWEA Oslo styrelse\n
END:VEVENT
BEGIN:VTIMEZONE
TZID:Europe/Oslo
X-LIC-LOCATION:Europe/Oslo
BEGIN:DAYLIGHT
DTSTART:20260329T030000
TZOFFSETFROM:+0100
TZOFFSETTO:+0200
TZNAME:CEST
END:DAYLIGHT
END:VTIMEZONE
END:VCALENDAR