BEGIN:VCALENDAR
VERSION:2.0
PRODID:-//wp-events-plugin.com//6.5//EN
TZID:Europe/Oslo
X-WR-TIMEZONE:Europe/Oslo
BEGIN:VEVENT
UID:51-9900@oslo.swea.org
DTSTART:20260531T160000Z
DTEND:20260531T180000Z
DTSTAMP:20260416T113901Z
URL:https://oslo.swea.org/events/swea-sommarmiddag/
SUMMARY:SWEA Sommarmiddag
DESCRIPTION:Nodee Sky\nHär\, mitt i Bjørvika\, tar vi glashissen upp till
  våning 12 och hittar en modern restaurang med japanska influenser och en
  fantastisk utsikt över Oslo. Vi blir serverade en fördrink och därefte
 r en 6-rätters middag.\nSärskild inbjudan skickas till alla medlemmar in
 om kort.
END:VEVENT
END:VCALENDAR