BEGIN:VCALENDAR
VERSION:2.0
PRODID:-//wp-events-plugin.com//6.5//EN
TZID:Europe/Oslo
X-WR-TIMEZONE:Europe/Oslo
BEGIN:VEVENT
UID:51-10202@oslo.swea.org
DTSTART;TZID=Europe/Oslo:20260519T183000
DTEND;TZID=Europe/Oslo:20260519T210000
DTSTAMP:20260416T113624Z
URL:https://oslo.swea.org/events/teater-den-spanske-flue/
SUMMARY:Teater - Den spanske flue
DESCRIPTION:Vi går och ser föreställningen - Den spanske flue - på Nati
 onaltheatret.\nFullbokad!\nLäs mer om föreställningen här\, https://w
 ww.nationaltheatret.no/forestillinger/den-spanske-flue/\n\n&nbsp\;
END:VEVENT
BEGIN:VTIMEZONE
TZID:Europe/Oslo
X-LIC-LOCATION:Europe/Oslo
BEGIN:DAYLIGHT
DTSTART:20260329T030000
TZOFFSETFROM:+0100
TZOFFSETTO:+0200
TZNAME:CEST
END:DAYLIGHT
END:VTIMEZONE
END:VCALENDAR