BEGIN:VCALENDAR
VERSION:2.0
PRODID:-//wp-events-plugin.com//6.5//EN
TZID:Europe/Oslo
X-WR-TIMEZONE:Europe/Oslo
BEGIN:VEVENT
UID:51-9898@oslo.swea.org
DTSTART;TZID=Europe/Oslo:20260510T110000
DTEND;TZID=Europe/Oslo:20260510T150000
DTSTAMP:20260421T145658Z
URL:https://oslo.swea.org/events/tur-runt-maridalsvannet/
SUMMARY:Tur runt Maridalsvannet
DESCRIPTION:Packa matsäcken och se naturen vakna på en vandring runt Mari
 dalsvannet.\nVi går en stig längst med Mariedalsvannet på ca 8 km. \n\
 n&nbsp\;\n\nResväg: Oslo S - Spårvagn till Kjelsås\, gå 500 m till sta
 rten av stigen/vägen.\n\nHem: Buss 51 till Nydalen\, därifrån tar man T
 -bana till Oslo S.\n\nTa med egen matsäck!\n\nMer information kommer inom
  kort\n\nhttps://ut.no/kart/tur/111344779/pa-tur-langs-maridalsvannet-i-os
 lo#11/59.989/10.6991
ATTACH;FMTTYPE=image/jpeg:https://oslo.swea.org/wp-content/uploads/sites/5
 1/2026/01/Cykelstor.jpg
END:VEVENT
BEGIN:VTIMEZONE
TZID:Europe/Oslo
X-LIC-LOCATION:Europe/Oslo
BEGIN:DAYLIGHT
DTSTART:20260329T030000
TZOFFSETFROM:+0100
TZOFFSETTO:+0200
TZNAME:CEST
END:DAYLIGHT
END:VTIMEZONE
END:VCALENDAR