BEGIN:VCALENDAR
VERSION:2.0
PRODID:-//wp-events-plugin.com//6.5//EN
TZID:Europe/Oslo
X-WR-TIMEZONE:Europe/Oslo
BEGIN:VEVENT
UID:51-10555@oslo.swea.org
DTSTART;TZID=Europe/Oslo:20260430T170000
DTEND;TZID=Europe/Oslo:20260430T170000
DTSTAMP:20260416T113435Z
URL:https://oslo.swea.org/events/valborg-fashionista/
SUMMARY:Valborg - Fashionista
DESCRIPTION:Ta del av säsongens färger &amp\; stil på Fashionista\nKarin
  bjuder på skagenröra med tillbehör\, ost och bubblor.\nFina erbjudande
 n.\nAnmälan till karin@fairytalefashion.no senast den 28 april\n\nVälkom
 men från 17.00!\n
END:VEVENT
BEGIN:VTIMEZONE
TZID:Europe/Oslo
X-LIC-LOCATION:Europe/Oslo
BEGIN:DAYLIGHT
DTSTART:20260329T030000
TZOFFSETFROM:+0100
TZOFFSETTO:+0200
TZNAME:CEST
END:DAYLIGHT
END:VTIMEZONE
END:VCALENDAR