BEGIN:VCALENDAR
VERSION:2.0
PRODID:-//wp-events-plugin.com//6.5//EN
TZID:Europe/Oslo
X-WR-TIMEZONE:Europe/Oslo
BEGIN:VEVENT
UID:51-10711@oslo.swea.org
DTSTART;TZID=Europe/Oslo:20260917T000000
DTEND;TZID=Europe/Oslo:20260917T000000
DTSTAMP:20260421T084103Z
URL:https://oslo.swea.org/events/varldsmote-2026/
SUMMARY:Världsmöte Oslo 2026
DESCRIPTION:Turen har kommit till SWEA Oslo att stå som värdinna för SWE
 A's världsmöte.\nIdag samlas Sweor från hela världen i vackra Oslo.\nV
 älkommen !\nLäs mer här VM Oslo 2026
ATTACH;FMTTYPE=image/jpeg:https://oslo.swea.org/wp-content/uploads/sites/5
 1/2026/04/VM-Oslo-Fjord-och-Flagga-Kvadrat.png
END:VEVENT
BEGIN:VTIMEZONE
TZID:Europe/Oslo
X-LIC-LOCATION:Europe/Oslo
BEGIN:DAYLIGHT
DTSTART:20260329T030000
TZOFFSETFROM:+0100
TZOFFSETTO:+0200
TZNAME:CEST
END:DAYLIGHT
END:VTIMEZONE
END:VCALENDAR