BEGIN:VCALENDAR
VERSION:2.0
PRODID:-//wp-events-plugin.com//6.5//EN
TZID:Europe/Oslo
X-WR-TIMEZONE:Europe/Oslo
BEGIN:VEVENT
UID:51-10713@oslo.swea.org
DTSTART;TZID=Europe/Oslo:20260919T000000
DTEND;TZID=Europe/Oslo:20260919T000000
DTSTAMP:20260421T065605Z
URL:https://oslo.swea.org/events/varldsmote-oslo-2026-2/
SUMMARY:Världsmöte Oslo 2026
DESCRIPTION:Dagen består av möten för våra regioner i SWEA samt spänna
 nde utflykter.\nVälkommen !\nLäs mer här VM Oslo 2026
END:VEVENT
BEGIN:VTIMEZONE
TZID:Europe/Oslo
X-LIC-LOCATION:Europe/Oslo
BEGIN:DAYLIGHT
DTSTART:20260329T030000
TZOFFSETFROM:+0100
TZOFFSETTO:+0200
TZNAME:CEST
END:DAYLIGHT
END:VTIMEZONE
END:VCALENDAR