BEGIN:VCALENDAR
VERSION:2.0
PRODID:-//wp-events-plugin.com//6.5//EN
TZID:Europe/Oslo
X-WR-TIMEZONE:Europe/Oslo
BEGIN:VEVENT
UID:51-10715@oslo.swea.org
DTSTART;TZID=Europe/Oslo:20260920T000000
DTEND;TZID=Europe/Oslo:20260920T000000
DTSTAMP:20260421T083156Z
URL:https://oslo.swea.org/events/varldsmote-oslo-2026-4/
SUMMARY:Världsmöte Oslo 2026
DESCRIPTION:Världsmötets sista dag - Hemresa\nIdag är inga möten inplan
 erade men för er som stannar kvar i Oslo finns några aktiviter att välj
 a på.\nEller passa på att upptäcka Oslo på egen hand.\nLäs mer här V
 M Oslo 2026
END:VEVENT
BEGIN:VTIMEZONE
TZID:Europe/Oslo
X-LIC-LOCATION:Europe/Oslo
BEGIN:DAYLIGHT
DTSTART:20260329T030000
TZOFFSETFROM:+0100
TZOFFSETTO:+0200
TZNAME:CEST
END:DAYLIGHT
END:VTIMEZONE
END:VCALENDAR